BEGIN:VCALENDAR
VERSION:2.0
PRODID:-//wp-events-plugin.com//7.2.2.1//EN
TZID:Europe/Berlin
X-WR-TIMEZONE:Europe/Berlin
BEGIN:VEVENT
UID:18@horrheimer-weingaertner.de
DTSTART;TZID=Europe/Berlin;VALUE=DATE:20250919
DTEND;TZID=Europe/Berlin;VALUE=DATE:20250922
DTSTAMP:20241112T205655Z
URL:https://www.horrheimer-weingaertner.de/events/horrheimer-herbst/
SUMMARY:Horrheimer Herbst
DESCRIPTION:ganz Horrheim
END:VEVENT
BEGIN:VTIMEZONE
TZID:Europe/Berlin
X-LIC-LOCATION:Europe/Berlin
BEGIN:DAYLIGHT
DTSTART:20250330T030000
TZOFFSETFROM:+0100
TZOFFSETTO:+0200
TZNAME:CEST
END:DAYLIGHT
END:VTIMEZONE
END:VCALENDAR