BEGIN:VCALENDAR
VERSION:2.0
PRODID:-//wp-events-plugin.com//7.2.2.1//EN
TZID:Europe/Berlin
X-WR-TIMEZONE:Europe/Berlin
BEGIN:VEVENT
UID:60@horrheimer-weingaertner.de
DTSTART;TZID=Europe/Berlin;VALUE=DATE:20260815
DTEND;TZID=Europe/Berlin;VALUE=DATE:20260816
DTSTAMP:20260114T134217Z
URL:https://www.horrheimer-weingaertner.de/events/sommerweinhock/
SUMMARY:SOMMERWEINHOCK
DESCRIPTION:Sa. 15.08.2026
LOCATION:Saal WG Horrheim\, Weinsteige 33\, Vaihingen/Enz- Horrheim\, 71665
 \, Deutschland
X-APPLE-STRUCTURED-LOCATION;VALUE=URI;X-ADDRESS=Weinsteige 33\, Vaihingen/E
 nz- Horrheim\, 71665\, Deutschland;X-APPLE-RADIUS=100;X-TITLE=Saal WG Horr
 heim:geo:0,0
END:VEVENT
BEGIN:VTIMEZONE
TZID:Europe/Berlin
X-LIC-LOCATION:Europe/Berlin
BEGIN:DAYLIGHT
DTSTART:20260329T030000
TZOFFSETFROM:+0100
TZOFFSETTO:+0200
TZNAME:CEST
END:DAYLIGHT
END:VTIMEZONE
END:VCALENDAR