BEGIN:VCALENDAR
VERSION:2.0
PRODID:-//wp-events-plugin.com//7.2.2.1//EN
TZID:Europe/Berlin
X-WR-TIMEZONE:Europe/Berlin
BEGIN:VEVENT
UID:19@horrheimer-weingaertner.de
DTSTART;TZID=Europe/Berlin;VALUE=DATE:20251103
DTEND;TZID=Europe/Berlin;VALUE=DATE:20251109
DTSTAMP:20251010T081242Z
URL:https://www.horrheimer-weingaertner.de/events/spaetlingsmarkt-ludwigsb
 urg/
SUMMARY:Spätlingsmarkt Ludwigsburg
DESCRIPTION:
LOCATION:Kreishaus Ludwigsburg\, Hindenburgstraße 40\, Ludwigsburg\, Deuts
 chland
X-APPLE-STRUCTURED-LOCATION;VALUE=URI;X-ADDRESS=Hindenburgstraße 40\, Ludw
 igsburg\, Deutschland;X-APPLE-RADIUS=100;X-TITLE=Kreishaus Ludwigsburg:geo
 :0,0
END:VEVENT
BEGIN:VTIMEZONE
TZID:Europe/Berlin
X-LIC-LOCATION:Europe/Berlin
BEGIN:STANDARD
DTSTART:20251026T020000
TZOFFSETFROM:+0200
TZOFFSETTO:+0100
TZNAME:CET
END:STANDARD
END:VTIMEZONE
END:VCALENDAR