BEGIN:VCALENDAR
VERSION:2.0
PRODID:-//wp-events-plugin.com//7.2.2.1//EN
TZID:Europe/Berlin
X-WR-TIMEZONE:Europe/Berlin
BEGIN:VEVENT
UID:29@horrheimer-weingaertner.de
DTSTART;TZID=Europe/Berlin;VALUE=DATE:20260501
DTEND;TZID=Europe/Berlin;VALUE=DATE:20260504
DTSTAMP:20260114T133343Z
URL:https://www.horrheimer-weingaertner.de/events/vaihinger-messe/
SUMMARY:VAIHINGER MESSE
DESCRIPTION:am Fr. 01.05 bis So. 03.05.2026
LOCATION:Vaihingen/Enz Stadt\, Stadt\, Vaihingen/Enz\, Deutschland
X-APPLE-STRUCTURED-LOCATION;VALUE=URI;X-ADDRESS=Stadt\, Vaihingen/Enz\, Deu
 tschland;X-APPLE-RADIUS=100;X-TITLE=Vaihingen/Enz Stadt:geo:0,0
END:VEVENT
BEGIN:VTIMEZONE
TZID:Europe/Berlin
X-LIC-LOCATION:Europe/Berlin
BEGIN:DAYLIGHT
DTSTART:20260329T030000
TZOFFSETFROM:+0100
TZOFFSETTO:+0200
TZNAME:CEST
END:DAYLIGHT
END:VTIMEZONE
END:VCALENDAR